BEGIN:VCALENDAR
VERSION:2.0
PRODID:-//mitmacher.net - ECPv6.15.20//NONSGML v1.0//EN
CALSCALE:GREGORIAN
METHOD:PUBLISH
X-ORIGINAL-URL:https://www.mitmacher.net
X-WR-CALDESC:Veranstaltungen für mitmacher.net
REFRESH-INTERVAL;VALUE=DURATION:PT1H
X-Robots-Tag:noindex
X-PUBLISHED-TTL:PT1H
BEGIN:VTIMEZONE
TZID:Europe/Berlin
BEGIN:DAYLIGHT
TZOFFSETFROM:+0100
TZOFFSETTO:+0200
TZNAME:CEST
DTSTART:20230326T010000
END:DAYLIGHT
BEGIN:STANDARD
TZOFFSETFROM:+0200
TZOFFSETTO:+0100
TZNAME:CET
DTSTART:20231029T010000
END:STANDARD
BEGIN:DAYLIGHT
TZOFFSETFROM:+0100
TZOFFSETTO:+0200
TZNAME:CEST
DTSTART:20240331T010000
END:DAYLIGHT
BEGIN:STANDARD
TZOFFSETFROM:+0200
TZOFFSETTO:+0100
TZNAME:CET
DTSTART:20241027T010000
END:STANDARD
BEGIN:DAYLIGHT
TZOFFSETFROM:+0100
TZOFFSETTO:+0200
TZNAME:CEST
DTSTART:20250330T010000
END:DAYLIGHT
BEGIN:STANDARD
TZOFFSETFROM:+0200
TZOFFSETTO:+0100
TZNAME:CET
DTSTART:20251026T010000
END:STANDARD
END:VTIMEZONE
BEGIN:VEVENT
DTSTART;TZID=Europe/Berlin:20241216T190000
DTEND;TZID=Europe/Berlin:20241216T210000
DTSTAMP:20260424T110123
CREATED:20241202T085137Z
LAST-MODIFIED:20241202T085137Z
UID:6272-1734375600-1734382800@www.mitmacher.net
SUMMARY:Treffen VCD Rosenheim
DESCRIPTION:Der Nahverkehr in der Stadt und im Umkreis stehen im Mittelpunkt des Treffens. \nAb 15.12.24 tritt der nächste Fahrplan in Kraft und es gibt Kürzungen im Busfahrplan. \nWir treffen uns in der Bürgerstiftung\,  Königsstr. 7b\, 83022 Rosenheim um 19 Uhr \nAm 3.12. ist die nächste  Sitzung des Verkehrsausschusses im Rathaus\, Rosenheim um 17 Uhr.\nVerkehrsausschuß \nWir sammeln Unterschriften für einen besseren Nahverkehr: Mehr Bus für Rosenheim \nUnd im Dezember gibt es den Advendsbus wieder mit mehr Fahrten.\nhttps://innpuls.me/der-rosenheimer-adventsbus-kommt-zurueck/
URL:https://www.mitmacher.net/event/treffen-vcd-rosenheim/
LOCATION:Bürgerstiftung Rosenheim\, Königsstr. 7b\, Rosenheim\, 83022\, Germany
END:VEVENT
END:VCALENDAR