BEGIN:VCALENDAR
VERSION:2.0
PRODID:-//mitmacher.net - ECPv6.15.20//NONSGML v1.0//EN
CALSCALE:GREGORIAN
METHOD:PUBLISH
X-ORIGINAL-URL:https://www.mitmacher.net
X-WR-CALDESC:Veranstaltungen für mitmacher.net
REFRESH-INTERVAL;VALUE=DURATION:PT1H
X-Robots-Tag:noindex
X-PUBLISHED-TTL:PT1H
BEGIN:VTIMEZONE
TZID:Europe/Berlin
BEGIN:DAYLIGHT
TZOFFSETFROM:+0100
TZOFFSETTO:+0200
TZNAME:CEST
DTSTART:20210328T010000
END:DAYLIGHT
BEGIN:STANDARD
TZOFFSETFROM:+0200
TZOFFSETTO:+0100
TZNAME:CET
DTSTART:20211031T010000
END:STANDARD
BEGIN:DAYLIGHT
TZOFFSETFROM:+0100
TZOFFSETTO:+0200
TZNAME:CEST
DTSTART:20220327T010000
END:DAYLIGHT
BEGIN:STANDARD
TZOFFSETFROM:+0200
TZOFFSETTO:+0100
TZNAME:CET
DTSTART:20221030T010000
END:STANDARD
BEGIN:DAYLIGHT
TZOFFSETFROM:+0100
TZOFFSETTO:+0200
TZNAME:CEST
DTSTART:20230326T010000
END:DAYLIGHT
BEGIN:STANDARD
TZOFFSETFROM:+0200
TZOFFSETTO:+0100
TZNAME:CET
DTSTART:20231029T010000
END:STANDARD
END:VTIMEZONE
BEGIN:VEVENT
DTSTART;TZID=Europe/Berlin:20221005T183000
DTEND;TZID=Europe/Berlin:20221005T200000
DTSTAMP:20260423T125534
CREATED:20220928T095217Z
LAST-MODIFIED:20220928T095217Z
UID:5336-1664994600-1665000000@www.mitmacher.net
SUMMARY:Online-Vortrag: Welche Heizung für mein Haus?
DESCRIPTION:MEHR WÄRME FÜR WENIGER GELD – Teil I: Welche Heizung für mein Haus?\nDie Entscheidung für eine Heizungsanlage – im Neubau oder bei einer Modernisierung im Bestand – hat langfristige Folgen. Wohnkomfort\, Heizkosten und die eigene Klimabilanz der nächsten Jahrzehnte hängen davon maßgeblich ab. Am Markt gibt es eine Vielzahl unterschiedlicher Technologien. Welche Heizung die richtige ist\, hängt von vielen Faktoren ab. Das System muss zum Gebäude passen\, zukunftssicher sowie wirtschaftlich sein und ökologischen Kriterien genügen. \nBeim kostenlosen Online-Vortrag der Verbraucherzentrale Sachsen erhalten die Teilnehmer*innen Tipps\, worauf sie bei der Wahl eines neuen Heizsystems achten sollten. \nZielgruppe:\nDer Online-Vortrag richtet sich vor allem an private Haus- und Wohnungseigentümer*innen\, Vermieter*innen und Kaufinteressierte. \nAnmeldung\nBitte melden Sie sich hier zum Online-Vortrag „MEHR WÄRME FÜR WENIGER GELD – Teil I: Welche Heizung für mein Haus?„  an. \nVeranstalterin\nVerbraucherzentrale Sachsen
URL:https://www.mitmacher.net/event/online-vortrag-welche-heizung-fuer-mein-haus/
LOCATION:Online
ORGANIZER;CN="Verbraucherzentrale Sachsen e.V.":MAILTO:vzs@vzs.de
END:VEVENT
BEGIN:VEVENT
DTSTART;TZID=Europe/Berlin:20221005T190000
DTEND;TZID=Europe/Berlin:20221005T200000
DTSTAMP:20260423T125534
CREATED:20220820T195643Z
LAST-MODIFIED:20220820T195643Z
UID:5120-1664996400-1665000000@www.mitmacher.net
SUMMARY:Online-Vortrag: Energiesparen im Alltag
DESCRIPTION:Die gute Nachricht: Um Energie zu sparen\, muss man keinesfalls hohen Aufwand betreiben oder größere Investitionen tätigen. Vielmehr sind es kleine Verhaltensänderungen im Alltag\, die sich postwendend im Portemonnaie bemerkbar machen. Mit dem Absenken der Raumtemperatur um nur ein Grad lassen sich bereits 6 Prozent Energie einsparen. Statt riesigen Fernsehern oder Desktoprechnern ist man mit Notebooks oder Tablets besser beraten\, weil sie wesentlich weniger Strom benötigen. Und Wasch- und Spülmaschinen sollten nur gut gefüllt gestartet werden\, zudem empfiehlt sich der Ecomodus. Im Online-Seminar „Energiesparen im Alltag“ geben die Energie-Fachleute der Verbraucherzentrale viele wertvolle Tipps. Im Anschluss an einen kurzen Vortrag bleibt Zeit für Fragen der Teilnehmenden. \nAnmeldung\nFolgen Sie diesem Link\, um an dem Online-Vortrag „Energiesparen im Alltag“ teilzunehmen. \nMeeting-ID: 851 6030 7526 \nKenncode: 764462 \nVeranstalter\nEnergieberatung der Verbraucherzentrale Nordrhein-Westfalen \n  \nWeitere Termine finden sich hier: \nhttps://verbraucherzentrale-energieberatung.de/veranstaltung/online-vortragenergiesparen-im-alltag-2022/all/
URL:https://www.mitmacher.net/event/online-vortrag-energiesparen-im-alltag-4/
LOCATION:Online
ORGANIZER;CN="Verbraucherzentrale Nordrhein-Westfalen":MAILTO:service@verbraucherzentrale.nrw
END:VEVENT
BEGIN:VEVENT
DTSTART;TZID=Europe/Berlin:20221007T173000
DTEND;TZID=Europe/Berlin:20221007T190000
DTSTAMP:20260423T125534
CREATED:20220831T163628Z
LAST-MODIFIED:20220831T163628Z
UID:5166-1665163800-1665169200@www.mitmacher.net
SUMMARY:Was hat mein Konsum mit dem Klimawandel zu tun?
DESCRIPTION:Was hat mein Konsum mit dem Klimawandel zu tun und wie kann ich meinen Beitrag zu den Treibhausgasemissionen minimieren? Dies erläutern wir in diesem Vortrag und diskutieren mit Ihnen Wege\, wie wir klimafreundlicher leben können. \n\nEigentlich wissen wir es: Konsum und Klima gehören zusammen. Egal ob wir Kleidung\, Elektronik\, Möbel\, Bücher\, Nahrungsmittel\, Theater\, Sauna konsumieren – wir beeinflussen das Klima. \nDoch wie stark sind eigentlich meine Auswirkungen auf Natur und Klima – was ist mein ökologischer Fußabdruck? Welche Dinge verursachen besonders viele Klimagase? Was ist zum Beispiel der CO2-Fußabdruck eines Buches? Wie viel Treibhausgase verursacht mein Lieblingsessen? Welche Spur hinterlässt ein Smartphone? Da wird es schon schwierig. \nIn unserem Vortrag greifen wir alltägliche Beispiele des Konsums auf: Fakten\, Hintergründe\, ein wenig Konsum-Psychologie\, aber auch Tipps für einen verantwortlichen Konsum – der sogar Spaß macht\, Geld spart und das Leben oft einfacher und schöner machen kann. \nHier geht es zur Anmeldung. \nReferentin: Dr. Maiken Winter \nVeranstalter:\nVerbraucherzentrale Bayern e.V. in Kooperation mit der Volkshochschule Prien \n\n\n\n\n\nVeranstaltungsort:\nVolkshochschule Prien\, 2. OG Raum 2\nHochfellnstr. 16\n83209  Prien
URL:https://www.mitmacher.net/event/was-hat-mein-konsum-mit-dem-klimawandel-zu-tun/
LOCATION:vhs Chiemsee e.V.\, Hochfellnstr. 16\, Prien\, 83209\, Deutschland
END:VEVENT
BEGIN:VEVENT
DTSTART;TZID=Europe/Berlin:20221011T123000
DTEND;TZID=Europe/Berlin:20221011T140000
DTSTAMP:20260423T125534
CREATED:20220628T084504Z
LAST-MODIFIED:20220724T060906Z
UID:5037-1665491400-1665496800@www.mitmacher.net
SUMMARY:Online-Sprechstunde Heizung der Verbraucherzentrale Bayern e.V.
DESCRIPTION:Bei der Suche nach der passenden Heiztechnik für Ihr Haus bieten sich vielfältige Lösungen an\, immer mehr auch in Kombination mit Solarenergie. Auch andere innovative Lösungen sind inzwischen ausgereift und erfreuen sich zudem hoher Zuschüsse durch Förderprogramme des Bundes. Hier bekommen Sie eine echte Entscheidungshilfe und objektive Beratung im Format der Sprechstunde mit ca. 20 Teilnehmer/innen. \n  \nBitte halten Sie folgende Informationen bereit: \n\nBaujahr des Hauses\nJahr der Inbetriebnahme der Heizung (Kaminkehrerprotokoll)\nEnergieverbrauch (in Litern\, kWh)\n\n  \nZielgruppe: Der Vortrag richtet sich vor allem an Hauseigentümer/innen\, die ihre Heizung austauschen möchten. Vorkenntnisse sind nicht nötig. \n  \nDie Teilnahme ist kostenfrei\, die verfügbaren Plätze sind begrenzt. \n\nAnmeldelink für diesen und für weitere Termine:\n https://next.edudip.com/de/webinar/online-sprechstunde-heizung/1800032
URL:https://www.mitmacher.net/event/online-sprechstunde-heizung-der-verbraucherzentrale-bayern-e-v-4/
LOCATION:Online
ORGANIZER;CN="Verbraucherzentrale Bayern e.V.":MAILTO:energie@vzbayern.de
END:VEVENT
BEGIN:VEVENT
DTSTART;TZID=Europe/Berlin:20221011T180000
DTEND;TZID=Europe/Berlin:20221011T193000
DTSTAMP:20260423T125534
CREATED:20220927T150134Z
LAST-MODIFIED:20220927T150237Z
UID:5284-1665511200-1665516600@www.mitmacher.net
SUMMARY:Online-Vortrag: Neubau - Nachhaltig und bezahlbar bauen
DESCRIPTION:Dieser Vortrag klärt anschaulich\, anbieter- und produktneutral über den neuesten Stand des Neubaus auf. \nVerbraucherinnen und Verbraucher erhalten kompakte Informationen zu den Themen Gebäudehülle\, Baukomponenten\, Heiz- und Anlagentechnik und regenerative Energien. \nAußerdem erfahren die Teilnehmenden Wissenswertes über die Fördermaßnahmen von Bund und Ländern. \nInhalte: \n– Die Idee von den eigenen vier Wänden \n– Die gesetzlichen Vorgaben: Erläuterungen zum neuen Gebäudeenergiegesetz (GEG) \n– Zusammenhang von Energieeffizienzklasse und Energiekosten \n– Effizienzhausstandards \n– Förderprogramme \n– Übersicht Baukosten \n– Gesamtablauf eines Neubauvorhabens \n– Technische Details der Hauskomponenten (Gebäudehülle – Heizung – Lüftung – Wärmebrücken) \n– Wohnklima im Effizienzhaus \n\n\n\n\nZielgruppe: Der Vortrag richtet sich vor allem an private Bauherren. Vorkenntnisse sind nicht nötig. \nDie Teilnahme an dem Webinar ist kostenlos. Hier geht es zur Anmeldung. \nReferentinnen: Andrea Krötzsch\, Energieberaterin für die Verbraucherzentrale Bayern e.V. und Sigrid Goldbrunner\, Regionalmanagerin\, Verbraucherzentrale Bayern e.V. \nVeranstalterin: Verbraucherzentrale Bayern e.V. \nKontakt: energie@vzbayern.de  \n\n\n\n\n\n\n\n\n\n\n 
URL:https://www.mitmacher.net/event/online-vortrag-neubau-nachhaltig-und-bezahlbar-bauen/
LOCATION:Online
ORGANIZER;CN="Verbraucherzentrale Bayern e.V.":MAILTO:energie@vzbayern.de
END:VEVENT
BEGIN:VEVENT
DTSTART;TZID=Europe/Berlin:20221012T170000
DTEND;TZID=Europe/Berlin:20221012T190000
DTSTAMP:20260423T125534
CREATED:20220927T133539Z
LAST-MODIFIED:20220927T134909Z
UID:5267-1665594000-1665601200@www.mitmacher.net
SUMMARY:Online: C.A.R.M.E.N.-WebSeminar „Strom im Eigenheim nachhaltig erzeugen – effizient nutzen!”
DESCRIPTION:Auch\, wenn wir ihn nicht sehen\, riechen oder schmecken können: Er sorgt still und heimlich dafür\, dass wir es im Winter kuschlig warm haben\, morgens den Kaffee genießen können und die Lebensmittel frisch bleiben. Er sorgt für saubere Kleidung und dafür\, dass wir von A nach B kommen und nicht im Dunkeln das Dasein fristen müssen. Ohne ihn hätten viele keine Arbeit und keine Unterhaltung. Ohne ihn läuft also fast nichts. \nDie Rede ist natürlich vom elektrischen Strom. Eine Form von Energie\, die einen täglich umgibt\, aber selten wirklich wahrgenommen wird – so selbstverständlich ist er geworden. Aber dass Strom wertvoll ist\, ja eigentlich unverzichtbar und mit dieser Ressource sparsam umgegangen werden sollte\, darüber machen wir uns eher selten Gedanken. Erst\, wenn für ihn bezahlt werden muss\, überlegen wir: Geht es nicht günstiger? Warum ist der Stromverbrauch so hoch und wie kann sich das ändern? \nIm Rahmen der diesjährigen Themenwochen „Im Team Energiebildung vorantreiben“ des Bayerischen Staatsministeriums für Wirtschaft\, Landesentwicklung und Energie setzt sich C.A.R.M.E.N. e.V. mit der effizienten Nutzung dieser wertvollen Energieform auseinander. Wie kann elektrischer Strom sinnvoll und effizient im Eigenheim verwendet werden? Wie können wir Strom zukunftsverträglich nutzen oder ihn gar selbst erzeugen? Auf diese Fragen gehen Expert*innen in diesem WebSeminar ein. \nDie Anmeldung erfolgt über Webex Events mit dem folgenden Anmeldelink: \nhttps://carmen-ev.webex.com/carmen-ev/j.php?RGID=r7be0808a1f0b3ce1b802a8920eee8485
URL:https://www.mitmacher.net/event/online-c-a-r-m-e-n-webseminar-strom-im-eigenheim-nachhaltig-erzeugen-effizient-nutzen/
LOCATION:Online
END:VEVENT
BEGIN:VEVENT
DTSTART;TZID=Europe/Berlin:20221019T123000
DTEND;TZID=Europe/Berlin:20221019T140000
DTSTAMP:20260423T125534
CREATED:20220927T151125Z
LAST-MODIFIED:20220927T151635Z
UID:5288-1666182600-1666188000@www.mitmacher.net
SUMMARY:Online-Sprechstunde Photovoltaik
DESCRIPTION:Verbraucherinnen und Verbraucher können aus Sonnenlicht Strom erzeugen – mit Photovoltaik. Die Energie kann selbst genutzt werden oder ins Stromnetz eingespeist werden. Prinzipiell kann jede/r eine Photovoltaikanlage erwerben und nutzen. An diesem Tag bekommen Ratsuchende eine echte Entscheidungshilfe und objektive Beratung im Format der Sprechstunde mit maximal 20 Teilnehmer:innen. \nFolgende Informationen werden für die Sprechstunde benötigt: \n– Art des Daches (Satteldach\, Flachdach\, Spitzdach ..)\, \n– Größe der Dachfläche\, \n– Ausrichtung des Daches und Dachneigung. \nZielgruppe: Der Vortrag richtet sich vor allem an Hauseigentümer/innen\, die eine Photovoltaik-Anlage für ihr 1- oder 2-Familienhaus planen. Vorkenntnisse sind nicht nötig. \nTechnische Voraussetzungen: \nWir empfehlen für die Teilnahme die aktuellen Versionen der Browser Firefox oder Chrome. Andere Browser und veraltete Versionen unterstützen die Software nur eingeschränkt. \nWichtig ist zusätzlich eine Webcam und ein Mikrofon\, um aktiv an der Veranstaltung teilnehmen zu können. \nDie Teilnahme an der Online-Sprechstunde ist kostenlos. Hier geht es zur Anmeldung. \nVeranstalterin: Verbraucherzentrale Bayern e.V. \nKontakt: energie@vzbayern.de  \nWeiterer Termin am 22.11.2022 \n 
URL:https://www.mitmacher.net/event/online-sprechstunde-photovoltaik/
LOCATION:Online
ORGANIZER;CN="Verbraucherzentrale Bayern e.V.":MAILTO:energie@vzbayern.de
END:VEVENT
BEGIN:VEVENT
DTSTART;TZID=Europe/Berlin:20221019T190000
DTEND;TZID=Europe/Berlin:20221019T200000
DTSTAMP:20260423T125534
CREATED:20220820T195908Z
LAST-MODIFIED:20220820T195908Z
UID:5122-1666206000-1666209600@www.mitmacher.net
SUMMARY:Online-Vortrag: Energiesparen im Alltag
DESCRIPTION:Die gute Nachricht: Um Energie zu sparen\, muss man keinesfalls hohen Aufwand betreiben oder größere Investitionen tätigen. Vielmehr sind es kleine Verhaltensänderungen im Alltag\, die sich postwendend im Portemonnaie bemerkbar machen. Mit dem Absenken der Raumtemperatur um nur ein Grad lassen sich bereits 6 Prozent Energie einsparen. Statt riesigen Fernsehern oder Desktoprechnern ist man mit Notebooks oder Tablets besser beraten\, weil sie wesentlich weniger Strom benötigen. Und Wasch- und Spülmaschinen sollten nur gut gefüllt gestartet werden\, zudem empfiehlt sich der Ecomodus. Im Online-Seminar „Energiesparen im Alltag“ geben die Energie-Fachleute der Verbraucherzentrale viele wertvolle Tipps. Im Anschluss an einen kurzen Vortrag bleibt Zeit für Fragen der Teilnehmenden. \nAnmeldung\nFolgen Sie diesem Link\, um an dem Online-Vortrag „Energiesparen im Alltag“ teilzunehmen. \nMeeting-ID: 851 6030 7526 \nKenncode: 764462 \nVeranstalter\nEnergieberatung der Verbraucherzentrale Nordrhein-Westfalen \n  \nWeitere Termine finden sich hier: \nhttps://verbraucherzentrale-energieberatung.de/veranstaltung/online-vortragenergiesparen-im-alltag-2022/all/
URL:https://www.mitmacher.net/event/online-vortrag-energiesparen-im-alltag-5/
LOCATION:Online
ORGANIZER;CN="Verbraucherzentrale Nordrhein-Westfalen":MAILTO:service@verbraucherzentrale.nrw
END:VEVENT
BEGIN:VEVENT
DTSTART;TZID=Europe/Berlin:20221025T183000
DTEND;TZID=Europe/Berlin:20221025T203000
DTSTAMP:20260423T125534
CREATED:20220820T094610Z
LAST-MODIFIED:20220820T094610Z
UID:5087-1666722600-1666729800@www.mitmacher.net
SUMMARY:Online-Vortrag: Strom erzeugen mit Photovoltaik
DESCRIPTION:Viele Menschen fragen sich aktuell\, ob sie eine Photovoltaik-Anlage bei sich installieren sollten. \nDer Energieberater und Photovoltaik-Experte Reiner Maschke erläutert\, unter welchen Bedingungen sich die Anschaffung einer Solarstrom-Anlage lohnt und auf welche Aspekte Verbraucher unbedingt achten sollten. \nSollte man den Strom lieber ins Netz einspeisen oder möglichst viel davon selbst verbrauchen? Lohnt sich eine gleichzeitige Anschaffung eines Batterie-Speichers? Und wie kann man auch als Mieter oder Wohnungseigentümer von Solarstrom profitieren? \nDer Vortrag ist für eine Stunde geplant. Im Anschluss haben Sie noch für ca. 15 – 30 Minuten die Möglichkeit\, per Chat Ihre Fragen zu stellen. \nAnmeldung\nBitte melden Sie sich hier zum Online-Vortrag „Strom erzeugen mit Photovoltaik“  an. \nVeranstalter\nEnergieberatung der Verbraucherzentrale Thüringen \nKontakt\nFragen beantworten wir Ihnen unter 0361 555 140. \n  \nWeitere Termine finden sich hier:  \nhttps://verbraucherzentrale-energieberatung.de/veranstaltung/online-vortrag-strom-erzeugen-mit-photovoltaik-2/all/ies
URL:https://www.mitmacher.net/event/online-vortrag-strom-erzeugen-mit-photovoltaik-2/
LOCATION:Online
ORGANIZER;CN="Energieberatung der Verbraucherzentrale Th%C3%BCringen":MAILTO:info@vzth.de
END:VEVENT
END:VCALENDAR