BEGIN:VCALENDAR
VERSION:2.0
PRODID:-//mitmacher.net - ECPv6.15.20//NONSGML v1.0//EN
CALSCALE:GREGORIAN
METHOD:PUBLISH
X-ORIGINAL-URL:https://www.mitmacher.net
X-WR-CALDESC:Veranstaltungen für mitmacher.net
REFRESH-INTERVAL;VALUE=DURATION:PT1H
X-Robots-Tag:noindex
X-PUBLISHED-TTL:PT1H
BEGIN:VTIMEZONE
TZID:Europe/Berlin
BEGIN:DAYLIGHT
TZOFFSETFROM:+0100
TZOFFSETTO:+0200
TZNAME:CEST
DTSTART:20210328T010000
END:DAYLIGHT
BEGIN:STANDARD
TZOFFSETFROM:+0200
TZOFFSETTO:+0100
TZNAME:CET
DTSTART:20211031T010000
END:STANDARD
BEGIN:DAYLIGHT
TZOFFSETFROM:+0100
TZOFFSETTO:+0200
TZNAME:CEST
DTSTART:20220327T010000
END:DAYLIGHT
BEGIN:STANDARD
TZOFFSETFROM:+0200
TZOFFSETTO:+0100
TZNAME:CET
DTSTART:20221030T010000
END:STANDARD
BEGIN:DAYLIGHT
TZOFFSETFROM:+0100
TZOFFSETTO:+0200
TZNAME:CEST
DTSTART:20230326T010000
END:DAYLIGHT
BEGIN:STANDARD
TZOFFSETFROM:+0200
TZOFFSETTO:+0100
TZNAME:CET
DTSTART:20231029T010000
END:STANDARD
END:VTIMEZONE
BEGIN:VEVENT
DTSTART;TZID=Europe/Berlin:20220907T190000
DTEND;TZID=Europe/Berlin:20220907T200000
DTSTAMP:20260423T141739
CREATED:20220820T195018Z
LAST-MODIFIED:20220820T195018Z
UID:5116-1662577200-1662580800@www.mitmacher.net
SUMMARY:Online-Vortrag: Energiesparen im Alltag
DESCRIPTION:Die gute Nachricht: Um Energie zu sparen\, muss man keinesfalls hohen Aufwand betreiben oder größere Investitionen tätigen. Vielmehr sind es kleine Verhaltensänderungen im Alltag\, die sich postwendend im Portemonnaie bemerkbar machen. Mit dem Absenken der Raumtemperatur um nur ein Grad lassen sich bereits 6 Prozent Energie einsparen. Statt riesigen Fernsehern oder Desktoprechnern ist man mit Notebooks oder Tablets besser beraten\, weil sie wesentlich weniger Strom benötigen. Und Wasch- und Spülmaschinen sollten nur gut gefüllt gestartet werden\, zudem empfiehlt sich der Ecomodus. Im Online-Seminar „Energiesparen im Alltag“ geben die Energie-Fachleute der Verbraucherzentrale viele wertvolle Tipps. Im Anschluss an einen kurzen Vortrag bleibt Zeit für Fragen der Teilnehmenden. \nAnmeldung\nFolgen Sie diesem Link\, um an dem Online-Vortrag „Energiesparen im Alltag“ teilzunehmen. \nMeeting-ID: 851 6030 7526 \nKenncode: 764462 \nVeranstalter\nEnergieberatung der Verbraucherzentrale Nordrhein-Westfalen \n  \nWeitere Termine finden sich hier: \nhttps://verbraucherzentrale-energieberatung.de/veranstaltung/online-vortragenergiesparen-im-alltag-2022/all/
URL:https://www.mitmacher.net/event/online-vortrag-energiesparen-im-alltag-2/
LOCATION:Online
ORGANIZER;CN="Verbraucherzentrale Nordrhein-Westfalen":MAILTO:service@verbraucherzentrale.nrw
END:VEVENT
BEGIN:VEVENT
DTSTART;TZID=Europe/Berlin:20220914T193000
DTEND;TZID=Europe/Berlin:20220914T213000
DTSTAMP:20260423T141739
CREATED:20220831T155647Z
LAST-MODIFIED:20220831T155647Z
UID:5158-1663183800-1663191000@www.mitmacher.net
SUMMARY:Online-Vortrag: „Heizungsmodernisierung mittels Wärmepumpen“
DESCRIPTION:Ihre Heizung ist „in die Jahre gekommen“? Sie möchten Ihre alte Öl- oder Gasheizung durch eine moderne\, klimafreundliche Heizungsanlage ersetzen? Sie möchten sich unabhängig von steigenden Energiepreisen bei Öl und Gas und einer steigenden CO2-Steuer machen? \nDann nehmen Sie teil am Vortrag \n„Heizungsmodernisierung mittels Wärmepumpen“  \n  \nReferenten des Energiewende ER(H)langen e.V. geben Antworten auf die Fragen: \n\nWas sind die Gründe zum Tausch der Heizungsanlage?\nWarum sind Wärmepumpen die beste Option bei der Heizungsmodernisierung?\nWie funktionieren Wärmepumpen?\nWas sind die Anforderungen für den wirtschaftlichen Betrieb einer Wärmepumpe in Bestandsgebäuden\, auch solchen ohne Fußbodenheizung?\nWelche Kosten sind zu erwarten? Welche Förderungen gibt es?\nWorauf muss ich bei der Planung des Heizungstauschs und der Auftragsvergabe achten?\nWie sehen Beispiele aus der Praxis aus?\n\nDie Teilnahme ist kostenlos! \nAnmeldung unter: Link \nBitte nutzen Sie auch die Fragen&Antworten-Seite zu dem Thema hier: Link\nDort werden Fragen beantwortet\, die bei den Vorträgen gestellt wurden. \nEine Veranstaltung des Vereins Energiewende ER(H)langen e.V.
URL:https://www.mitmacher.net/event/online-vortrag-heizungsmodernisierung-mittels-waermepumpen/
LOCATION:Online
END:VEVENT
BEGIN:VEVENT
DTSTART;TZID=Europe/Berlin:20220919T093000
DTEND;TZID=Europe/Berlin:20220919T133000
DTSTAMP:20260423T141739
CREATED:20220912T190815Z
LAST-MODIFIED:20220912T190815Z
UID:5205-1663579800-1663594200@www.mitmacher.net
SUMMARY:C.A.R.M.E.N.-WebSeminar „Energieeffizienz und regenerative Energien für Gastronomie und Tourismus”
DESCRIPTION:Von der Frühstückspension bis zum Luxushotel\, von der Imbissbude bis zum Feinschmecker-Restaurant\, alle touristischen Leistungsanbieter haben eines gemeinsam: Sie sind von steigenden Energiepreisen und einer gefährdeten Versorgung betroffen. 5% des Betriebsumsatzes sind im Durchschnitt Energiekosten\, die steigenden Preise lassen den Anteil rasch zweistellig werden. Viele Betriebe haben bereits Energiesparmaßnahmen ergriffen.\nDas C.A.R.M.E.N.-WebSeminar „Energieeffizienz und regenerative Energien für Gastronomie und Tourismus” zeigt\, wie die Branche kurzfristig Energie einsparen und sich mittelfristig mit heimischen Erneuerbaren Energien versorgen kann. \nDas Programm finden Sie hier. \nDie Anmeldung findet über Webex Events mit folgendem Anmeldelink statt: \nhttps://carmen-ev.webex.com/carmen-ev/j.php?RGID=r801dbb39a3a4731092e3545a4ace09fb
URL:https://www.mitmacher.net/event/c-a-r-m-e-n-webseminar-energieeffizienz-und-regenerative-energien-fuer-gastronomie-und-tourismus/
LOCATION:Online
END:VEVENT
BEGIN:VEVENT
DTSTART;TZID=Europe/Berlin:20220919T173000
DTEND;TZID=Europe/Berlin:20220919T193000
DTSTAMP:20260423T141739
CREATED:20220912T191458Z
LAST-MODIFIED:20220912T191458Z
UID:5208-1663608600-1663615800@www.mitmacher.net
SUMMARY:C.A.R.M.E.N.- WebSeminar: Heizungsmodernisierung mit regenerativen Energieträgern
DESCRIPTION:Mit einem Einbau-Verbot von reinen Ölheizungen ab 2026 und Zuschüssen für eine umweltfreundliche Heizungsanlage von bis zu 50 Prozent will die Bundesregierung in den kommenden Jahren den Modernisierungsstau in deutschen Heizungskellern auflösen und Fahrt in Richtung CO2-neutralem Gebäudebestand aufnehmen. \nDoch auf welches zukunftsfähige Heizsystem sollen Hausbesitzer*innen setzen? Welche Alternativen gibt es zu Öl- oder Gasheizungen\, die nicht nur das Klima belasten\, sondern durch die steigenden Energiepreise auch zunehmend den eigenen Geldbeutel? \nDiese Fragen stehen bei dem C.A.R.M.E.N.-WebSeminar „Heizungsmodernisierung mit regenerativen Energieträgern“ am 19. September 2022 um 17.30 Uhr im Mittelpunkt. Es gibt einen Überblick zu alternativen Heiztechnologien wie der Wärmepumpe oder der Pelletheizung\, aber auch hybride Heizsysteme werden beleuchtet. Denn eine Kombination mit Solarthermie oder einer PV-Anlage mit eigenem Strom vom Dach bringt in vielen Fällen Vorteile mit sich. Darüber hinaus wird gezeigt\, was man bei der Planung beachten muss und welche Fördermöglichkeiten in Anspruch genommen werden könneien. \nDer  Online-Vortrag richtet sich insbesondere an Besitzer*innen von Ein- und Mehrfamilienhäusern\, an Wohnungseigentümergemeinschaften sowie an alle fachlich und inhaltlich Interessierten. \nDie Anmeldung erfolgt über Webex Events mit dem folgenden Anmeldelink: \nhttps://carmen-ev.webex.com/carmen-ev/j.php?RGID=r7085b33e9f70e7c2472fe75c5a85fcc0
URL:https://www.mitmacher.net/event/c-a-r-m-e-n-webseminar-heizungsmodernisierung-mit-regenerativen-energietraegern-2/
LOCATION:Online
END:VEVENT
BEGIN:VEVENT
DTSTART;TZID=Europe/Berlin:20220921T190000
DTEND;TZID=Europe/Berlin:20220921T200000
DTSTAMP:20260423T141739
CREATED:20220820T195349Z
LAST-MODIFIED:20220820T195349Z
UID:5118-1663786800-1663790400@www.mitmacher.net
SUMMARY:Online-Vortrag: Energiesparen im Alltag
DESCRIPTION:Die gute Nachricht: Um Energie zu sparen\, muss man keinesfalls hohen Aufwand betreiben oder größere Investitionen tätigen. Vielmehr sind es kleine Verhaltensänderungen im Alltag\, die sich postwendend im Portemonnaie bemerkbar machen. Mit dem Absenken der Raumtemperatur um nur ein Grad lassen sich bereits 6 Prozent Energie einsparen. Statt riesigen Fernsehern oder Desktoprechnern ist man mit Notebooks oder Tablets besser beraten\, weil sie wesentlich weniger Strom benötigen. Und Wasch- und Spülmaschinen sollten nur gut gefüllt gestartet werden\, zudem empfiehlt sich der Ecomodus. Im Online-Seminar „Energiesparen im Alltag“ geben die Energie-Fachleute der Verbraucherzentrale viele wertvolle Tipps. Im Anschluss an einen kurzen Vortrag bleibt Zeit für Fragen der Teilnehmenden. \nAnmeldung\nFolgen Sie diesem Link\, um an dem Online-Vortrag „Energiesparen im Alltag“ teilzunehmen. \nMeeting-ID: 851 6030 7526 \nKenncode: 764462 \nVeranstalter\nEnergieberatung der Verbraucherzentrale Nordrhein-Westfalen \n  \nWeitere Termine finden sich hier: \nhttps://verbraucherzentrale-energieberatung.de/veranstaltung/online-vortragenergiesparen-im-alltag-2022/all/
URL:https://www.mitmacher.net/event/online-vortrag-energiesparen-im-alltag-3/
LOCATION:Online
ORGANIZER;CN="Verbraucherzentrale Nordrhein-Westfalen":MAILTO:service@verbraucherzentrale.nrw
END:VEVENT
BEGIN:VEVENT
DTSTART;TZID=Europe/Berlin:20220921T190000
DTEND;TZID=Europe/Berlin:20220921T203000
DTSTAMP:20260423T141739
CREATED:20220918T150945Z
LAST-MODIFIED:20220918T150945Z
UID:5233-1663786800-1663792200@www.mitmacher.net
SUMMARY:Online-Vortrag: Energieeffizienz selbst gemacht – JETZT! anpacken\, sparen\, beitragen
DESCRIPTION:Sie wollen aktiv mit anpacken\, um Energie und Kosten zu sparen? Wir zeigen Ihnen wie! Niemand von uns steht der Energiekrise machtlos gegenüber. Alle\, ob Mieter*in oder Gebäudeeigentümer*innen\, Nutzer*innen oder Ratgebende\, können mit kleinen oder größeren Maßnahmen\, etwas dazu beisteuern\, um die Energie- und Klimakrise abzumildern. Engagieren Sie sich und werden Sie aktiv. \nDer Referent zeigt\, wie Sie mit DIY-Maßnahmen und detaillierten Anleitungen selbst dazu beitragen können\, Energie und Kosten einzusparen. \nReferent: Benjamin Krick\, Passivhaus Institut \nDie Teilnahme an dieser Veranstaltung ist kostenfrei.\n \nAnmeldung: \nOnline-Vortrag und Fragerunde am Mittwoch\, den 21. September 2022 um 19:00 – 20:30 Uhr. \nZUR ANMELDUNG\nNach der Anmeldung zum Online-Vortrag erhalten Sie einen Bestätigungslink an die von Ihnen hinterlegte E-Mail-Adresse und 15 Minuten vor Beginn des Vortrags einen Erinnerungslink. \nVerpassen Sie nicht die Gelegenheit\, sich virtuell\, bequem vor Ihrem Bildschirm\, über aktuelle Themen auszutauschen. Sie können dabei jederzeit Ihre Fragen in den Chat stellen. Bleiben Sie informiert! Wir freuen uns auf den Austausch mit Ihnen. \nNähere Infos finden sich auf der Website zur Veranstaltung. \nPressemitteilung des Passivhaus-Instituts Infos zur Aktion „Do it yourself“ und Links zu Videos.
URL:https://www.mitmacher.net/event/online-vortrag-energieeffizienz-selbst-gemacht-jetzt-anpacken-sparen-beitragen/
LOCATION:Online
ORGANIZER;CN="Passivhaus Institut":MAILTO:mail@passiv.de
END:VEVENT
BEGIN:VEVENT
DTSTART;TZID=Europe/Berlin:20220922T193000
DTEND;TZID=Europe/Berlin:20220922T220000
DTSTAMP:20260423T141739
CREATED:20220820T185932Z
LAST-MODIFIED:20220921T054001Z
UID:5103-1663875000-1663884000@www.mitmacher.net
SUMMARY:Filmvorführung "Leben mit der Energiewende - Autark"
DESCRIPTION:Filmvorführung des 4. Films aus der Reihe „Leben mit der Energiewende“ mit anschließender Diskussion. \nAuch Regisseur Frank Farenski wird vor Ort sein und die Diskussion leiten. \nDer Eintritt ist frei! \n  \nImmer mehr Menschen machen sich unabhängig. Unabhängig von den großen Energieversorgern\, den Konzernen\, den Unternehmen und der Politik. Sie produzieren und nutzen eigene Ressourcen wie Energie und Nahrungsmittel. Oder sie organisieren das Leben in nachbarschaftlicher Hilfe und werden so freier und unabhängiger. Das bürgerliche Selbstbewusstsein und die Freiheit erleben so eine Renaissance\, trotz angeblicher globaler Zwänge. Die Menschen wollen Autarkie. Ein Leben ohne Energiekosten ist möglich\, Photovoltaik\, Stromspeicher\, Wärmepumpen\, E-Mobilität versorgen die Bürger/innen mit der gesamten benötigten Energie. \n„AUTARK – DER FILM“ zeigt\, wie sich viele Bürgerinnen und Bürger autark und damit unabhängig machen. Star des Kinofilms ist der Dalai Lama. Er plädiert für die Energiewende als Instrument der Freiheit und Entwicklung auf der Welt. Neben dem Dalai Lama: Franz Alt\, Hans-Josef Fell\, Dr. Andreas Piepenbrink\, Volker Leprich\, Saxo Dyzak\, Holger Laudeley und viele mehr. \n  \nWeitere Informationen sind auf der Website zur Filmreihe zu finden:\nhttps://www.lebenmitderenergiewende.de/
URL:https://www.mitmacher.net/event/filmvorfuehrung-leben-ohne-energiekosten/
LOCATION:Pfarrheim St. Hedwig Rosenheim\, Austraße 36\, 83024 Rosenheim\, Deutschland
CATEGORIES:rosolar
ORGANIZER;CN="rosolar":MAILTO:info@rosolar.de
END:VEVENT
BEGIN:VEVENT
DTSTART;TZID=Europe/Berlin:20220923T140000
DTEND;TZID=Europe/Berlin:20220923T153000
DTSTAMP:20260423T141739
CREATED:20220831T135840Z
LAST-MODIFIED:20220831T135840Z
UID:5145-1663941600-1663947000@www.mitmacher.net
SUMMARY:Online-Webseminar: Marktübersicht Batteriespeicher 2022 – Auswertung
DESCRIPTION:Batteriespeicher bleiben auf dem Vormarsch: Die Mehrheit der Photovoltaikanlagen wird mittlerweile zusammen mit einem Batterieheimspeichersystem installiert. Seit 2014 publiziert C.A.R.M.E.N. e.V. die Marktübersicht Batteriespeicher. Seither zeigt sie jährlich grundlegende Eigenschaften und Kennzahlen der am Markt verfügbaren Systeme und dient damit als transparente Orientierungshilfe für Verbraucher*innen. \n  \nDie Speicherinstallationen in deutschen Haushalten nehmen weiterhin zu. So sind deutschlandweit bereits etwa 500.000 Speichersysteme in Betrieb. Gründe für die wachsende Beliebtheit von Heimspeichern stellen unter anderem die Absicherung gegen steigende Strompreise sowie die Notstromfähigkeit und die Möglichkeit der Eigenverbrauchssteigerung dar. Darüber hinaus möchten viele Speicherbetreiber*innen einen Beitrag zur Energiewende und zum Klimaschutz leisten. \n  \nDas kostenfreie C.A.R.M.E.N.-WebSeminar „Marktübersicht Batteriespeicher 2022 – Auswertung“ am 23. September ab 14:00 Uhr erläutert grundlegende Batteriespeicher-Kenngrößen und zeigt ausführliche Auswertungen der aktualisierten Marktübersicht Batteriespeicher 2022. Die Publikation enthält über 370 Systeme von 23 Anbietern und ist kostenfrei abrufbar. Mit jährlich über 20.000 Aufrufen dient die Marktübersicht Batteriespeicher Interessierten als transparente und aktuelle Informationsquelle. \n  \nDie Anmeldung erfolgt über Webex Events mit dem folgenden Anmeldelink: \nhttps://carmen-ev.webex.com/carmen-ev/j.php?RGID=rd40ace3c1786bf6effde7f3fbac7c575 \n  \nZugangsvoraussetzung für die Teilnahme an der Online-Veranstaltung ist ein PC oder Notebook sowie eine gute und stabile Internetverbindung. Über einen Livechat können die Teilnehmenden schriftlich Fragen stellen. \nDie Teilnehmendenzahl ist begrenzt.
URL:https://www.mitmacher.net/event/online-webseminar-marktuebersicht-batteriespeicher-2022-auswertung/
LOCATION:Online
END:VEVENT
BEGIN:VEVENT
DTSTART;TZID=Europe/Berlin:20220923T140000
DTEND;TZID=Europe/Berlin:20220923T163000
DTSTAMP:20260423T141739
CREATED:20220917T062203Z
LAST-MODIFIED:20220918T062625Z
UID:5225-1663941600-1663950600@www.mitmacher.net
SUMMARY:Globaler Klimastreik am 23.09.2022
DESCRIPTION:Der Klimastreik geht weiter! Am 23.09. heißt es wieder weltweit\, auf die Straßen für Klimagerechtigkeit. Das Motto: wende. \nDas Team von FFF-Rosenheim schließt sich den globalen Demonstrationen an. Die Aktion in Rosenheim startet ab 14:00 Uhr am Salingarten. \nEs gilt\, in eine eine erneuerbare Zukunft zu investieren\, die Verkehrswende umzusetzen und die Transformation sozial gerecht zu gestalten. \nKonkrete Forderungen an die Politik: Subventionen in umweltschädliche fossile Energien stoppen\, ein Nachfolgemodell des 9€- Tickets beschließen und die Reichsten und größten Konzerne für ihr Handeln in Verantwortung zu nehmen. \nNähere Infos zur Aktion in Rosenheim sowie zu Aktionen an anderen Orten in Deutschland.
URL:https://www.mitmacher.net/event/globaler-klimastreik-am-23-09-2022/
LOCATION:Salingarten\, Rosenheim\, Salinstraße 1\, Rosenheim\, 83022\, Deutschland
END:VEVENT
BEGIN:VEVENT
DTSTART;TZID=Europe/Berlin:20220927T180000
DTEND;TZID=Europe/Berlin:20220927T193000
DTSTAMP:20260423T141739
CREATED:20220831T162748Z
LAST-MODIFIED:20220831T162748Z
UID:5164-1664301600-1664307000@www.mitmacher.net
SUMMARY:Online-Vortrag: Heizungserneuerung - Wie packt man’s richtig an?
DESCRIPTION:Viele Fragen sind vor dem Heizungstausch zu klären und vor allem eine Entscheidung möglichst zugunsten erneuerbarer Energien zu treffen. Was ist zu beachten\, welche Alternativen zur Ölheizung kommen in Frage\, wieviel Energie lässt sich sparen und wo gibts Fördermittel? Bei der Suche nach der passenden Heiztechnik für Ihr Haus bieten sich vielfältige Lösungen\, immer mehr auch in Kombination mit Solarenergie. Auch andere innovative Lösungen sind inzwischen ausgereift und erfreuen sich zudem hoher Zuschüsse durch Förderprogramme des Bundes. An diesem Abend bekommen Sie eine echte Entscheidungshilfe und objektive Beratung. \nZielgruppe: Der Vortrag richtet sich vor allem an Hauseigentümer/innen. Vorkenntnisse sind nicht nötig. \nDie Teilnahme an dem Webinar ist kostenlos. Hier geht es zur Anmeldung. \nWeitere Termine: 13. Dezember 2022 und 13. März 2023\, 18:00 – 19:30 Uhr \nReferentinnen:\nGisela Kienzle\, Dipl.-Ing.(FH) Architektin\, Energieberaterin für die Verbraucherzentrale Bayern e.V. und Sigrid Goldbrunner\, Regionalmanagerin\, Verbraucherzentrale Bayern e.V. \nVeranstalterin: Verbraucherzentrale Bayern e.V. \nKontakt: energie@vzbayern.de
URL:https://www.mitmacher.net/event/online-vortrag-heizungserneuerung-wie-packt-mans-richtig-an-4/
LOCATION:Online
ORGANIZER;CN="Verbraucherzentrale Bayern e.V.":MAILTO:energie@vzbayern.de
END:VEVENT
BEGIN:VEVENT
DTSTART;TZID=Europe/Berlin:20220927T180000
DTEND;TZID=Europe/Berlin:20220927T193000
DTSTAMP:20260423T141739
CREATED:20220912T192550Z
LAST-MODIFIED:20220912T192636Z
UID:5212-1664301600-1664307000@www.mitmacher.net
SUMMARY:C.A.R.M.E.N.- WebSeminar: „Wärme mal anders – Pelletheizung mit Stirlingmotor”
DESCRIPTION:Steigende Energiepreise für fossile Brennstoffe veranlassen immer mehr Verbraucher*innen über alternative Heizungen nachzudenken. Häufig wird dabei entweder auf klassische Wärmepumpen oder Holzheizungen zurückgegriffen. Doch es gibt noch weitere Möglichkeiten abseits der Standardanwendungen im Haus für angenehme Temperaturen zu sorgen. Dieses Webseminar stellt die Pelletheizung mit Stirlingmotor in den Mittelpunkt. Der Fokus liegt hier insbesondere auf Chancen und Grenzen der Technologie sowie auf den Voraussetzungen für einen sinnvollen Einsatz. \nDie Anmeldung findet über Webex Events mit folgendem Anmeldelink statt: \nhttps://carmen-ev.webex.com/carmen-ev/j.php?RGID=r0be357faaaaf27482242830505c971c8 \nDie Veranstaltung ist Teil der WebSeminarreihe “Wärme mal anders – Heizen abseits von Standardanwendungen“. Eine Übersicht und die Möglichkeit\, sich zu einem oder mehreren WebSeminaren anzumelden\, finden Sie hier:\nhttps://carmen-ev.webex.com/webappng/sites/carmen-ev/webinar/webinarSeries/register/3e32d5e6fe3f4d8ebcf567b243893016motor
URL:https://www.mitmacher.net/event/c-a-r-m-e-n-webseminar-waerme-mal-anders-pelletheizung-mit-stirlingmotor/
LOCATION:Online
END:VEVENT
END:VCALENDAR