BEGIN:VCALENDAR
VERSION:2.0
PRODID:-//mitmacher.net - ECPv6.15.20//NONSGML v1.0//EN
CALSCALE:GREGORIAN
METHOD:PUBLISH
X-WR-CALNAME:mitmacher.net
X-ORIGINAL-URL:https://www.mitmacher.net
X-WR-CALDESC:Veranstaltungen für mitmacher.net
REFRESH-INTERVAL;VALUE=DURATION:PT1H
X-Robots-Tag:noindex
X-PUBLISHED-TTL:PT1H
BEGIN:VTIMEZONE
TZID:Europe/Berlin
BEGIN:DAYLIGHT
TZOFFSETFROM:+0100
TZOFFSETTO:+0200
TZNAME:CEST
DTSTART:20220327T010000
END:DAYLIGHT
BEGIN:STANDARD
TZOFFSETFROM:+0200
TZOFFSETTO:+0100
TZNAME:CET
DTSTART:20221030T010000
END:STANDARD
BEGIN:DAYLIGHT
TZOFFSETFROM:+0100
TZOFFSETTO:+0200
TZNAME:CEST
DTSTART:20230326T010000
END:DAYLIGHT
BEGIN:STANDARD
TZOFFSETFROM:+0200
TZOFFSETTO:+0100
TZNAME:CET
DTSTART:20231029T010000
END:STANDARD
BEGIN:DAYLIGHT
TZOFFSETFROM:+0100
TZOFFSETTO:+0200
TZNAME:CEST
DTSTART:20240331T010000
END:DAYLIGHT
BEGIN:STANDARD
TZOFFSETFROM:+0200
TZOFFSETTO:+0100
TZNAME:CET
DTSTART:20241027T010000
END:STANDARD
END:VTIMEZONE
BEGIN:VEVENT
DTSTART;TZID=Europe/Berlin:20230209T170000
DTEND;TZID=Europe/Berlin:20230209T190000
DTSTAMP:20260423T185737
CREATED:20230129T205647Z
LAST-MODIFIED:20230129T205647Z
UID:5710-1675962000-1675969200@www.mitmacher.net
SUMMARY:C.A.R.M.E.N.-WebSeminar-Reihe „Energetische Gebäudemodernisierung – Heiztechnik 2″
DESCRIPTION:Neben den klassischen Arten zu Heizen gibt es noch weitere Möglichkeiten\, abseits der Standardanwendungen im Haus für angenehme Temperaturen zu sorgen. \nEinige dieser Technologien stehen in diesem Termin der WebSeminar-Reihe “Energetische Gebäudemodernisierung” im Mittelpunkt. Thematisiert werden dabei: \n• Eisspeicher\n• Split-Klimageräte\n• Infrarotheizungen\n• Kraft-Wärme-Kopplung\n• Wasserstofferzeugung und -verbrauch \nDer Fokus liegt insbesondere auf Chancen und Grenzen der jeweiligen Technologie sowie auf den Voraussetzungen für einen sinnvollen Einsatz. \nDie Teilnahme an der Veranstaltung ist kostenlos. \nLink zur Anmeldung.
URL:https://www.mitmacher.net/event/c-a-r-m-e-n-webseminar-reihe-energetische-gebaeudemodernisierung-heiztechnik-2%e2%80%b3/
LOCATION:Online
END:VEVENT
END:VCALENDAR