BEGIN:VCALENDAR
VERSION:2.0
PRODID:-//mitmacher.net - ECPv6.15.20//NONSGML v1.0//EN
CALSCALE:GREGORIAN
METHOD:PUBLISH
X-WR-CALNAME:mitmacher.net
X-ORIGINAL-URL:https://www.mitmacher.net
X-WR-CALDESC:Veranstaltungen für mitmacher.net
REFRESH-INTERVAL;VALUE=DURATION:PT1H
X-Robots-Tag:noindex
X-PUBLISHED-TTL:PT1H
BEGIN:VTIMEZONE
TZID:Europe/Berlin
BEGIN:DAYLIGHT
TZOFFSETFROM:+0100
TZOFFSETTO:+0200
TZNAME:CEST
DTSTART:20210328T010000
END:DAYLIGHT
BEGIN:STANDARD
TZOFFSETFROM:+0200
TZOFFSETTO:+0100
TZNAME:CET
DTSTART:20211031T010000
END:STANDARD
BEGIN:DAYLIGHT
TZOFFSETFROM:+0100
TZOFFSETTO:+0200
TZNAME:CEST
DTSTART:20220327T010000
END:DAYLIGHT
BEGIN:STANDARD
TZOFFSETFROM:+0200
TZOFFSETTO:+0100
TZNAME:CET
DTSTART:20221030T010000
END:STANDARD
BEGIN:DAYLIGHT
TZOFFSETFROM:+0100
TZOFFSETTO:+0200
TZNAME:CEST
DTSTART:20230326T010000
END:DAYLIGHT
BEGIN:STANDARD
TZOFFSETFROM:+0200
TZOFFSETTO:+0100
TZNAME:CET
DTSTART:20231029T010000
END:STANDARD
END:VTIMEZONE
BEGIN:VEVENT
DTSTART;TZID=Europe/Berlin:20220928T180000
DTEND;TZID=Europe/Berlin:20220928T193000
DTSTAMP:20260424T031831
CREATED:20220912T193101Z
LAST-MODIFIED:20220912T193101Z
UID:5214-1664388000-1664393400@www.mitmacher.net
SUMMARY:C.A.R.M.E.N.- WebSeminar: „Wärme mal anders – BHKW mit erneuerbaren Brennstoffen und Infrarotheizungen”
DESCRIPTION:Steigende Energiepreise für fossile Brennstoffe veranlassen immer mehr Verbraucher*innen über alternative Heizungen nachzudenken. Häufig wird dabei entweder auf klassische Wärmepumpen oder Holzheizungen zurückgegriffen. Doch es gibt noch weitere Möglichkeiten abseits der Standardanwendungen im Haus für angenehme Temperaturen zu sorgen. Dieses Webseminar stellt das BHKW mit erneuerbaren Brennstoffen und die Infrarotheizungen in den Mittelpunkt. Der Fokus liegt hier insbesondere auf Chancen und Grenzen der Technologie sowie auf den Voraussetzungen für einen sinnvollen Einsatz. Die Vorstellung der einzelnen Technologien erfolgt durch externe Unternehmen und nicht durch Fachleute von C.A.R.M.E.N. \nDie Anmeldung findet über Webex Events mit folgendem Anmeldelink statt: \nhttps://carmen-ev.webex.com/carmen-ev/j.php?RGID=re6fbdfafae111b9b3697fe58141ff308 \nDie Veranstaltung ist Teil der WebSeminarreihe “Wärme mal anders – Heizen abseits von Standardanwendungen“. Eine Übersicht und die Möglichkeit\, sich zu einem oder mehreren WebSeminaren anzumelden\, finden Sie hier:\nhttps://carmen-ev.webex.com/webappng/sites/carmen-ev/webinar/webinarSeries/register/3e32d5e6fe3f4d8ebcf567b243893016
URL:https://www.mitmacher.net/event/c-a-r-m-e-n-webseminar-waerme-mal-anders-bhkw-mit-erneuerbaren-brennstoffen-und-infrarotheizungen/
LOCATION:Online
END:VEVENT
END:VCALENDAR