BEGIN:VCALENDAR
VERSION:2.0
PRODID:-//mitmacher.net - ECPv6.15.20//NONSGML v1.0//EN
CALSCALE:GREGORIAN
METHOD:PUBLISH
X-ORIGINAL-URL:https://www.mitmacher.net
X-WR-CALDESC:Veranstaltungen für mitmacher.net
REFRESH-INTERVAL;VALUE=DURATION:PT1H
X-Robots-Tag:noindex
X-PUBLISHED-TTL:PT1H
BEGIN:VTIMEZONE
TZID:Europe/Berlin
BEGIN:DAYLIGHT
TZOFFSETFROM:+0100
TZOFFSETTO:+0200
TZNAME:CEST
DTSTART:20210328T010000
END:DAYLIGHT
BEGIN:STANDARD
TZOFFSETFROM:+0200
TZOFFSETTO:+0100
TZNAME:CET
DTSTART:20211031T010000
END:STANDARD
BEGIN:DAYLIGHT
TZOFFSETFROM:+0100
TZOFFSETTO:+0200
TZNAME:CEST
DTSTART:20220327T010000
END:DAYLIGHT
BEGIN:STANDARD
TZOFFSETFROM:+0200
TZOFFSETTO:+0100
TZNAME:CET
DTSTART:20221030T010000
END:STANDARD
BEGIN:DAYLIGHT
TZOFFSETFROM:+0100
TZOFFSETTO:+0200
TZNAME:CEST
DTSTART:20230326T010000
END:DAYLIGHT
BEGIN:STANDARD
TZOFFSETFROM:+0200
TZOFFSETTO:+0100
TZNAME:CET
DTSTART:20231029T010000
END:STANDARD
END:VTIMEZONE
BEGIN:VEVENT
DTSTART;TZID=Europe/Berlin:20220211T130000
DTEND;TZID=Europe/Berlin:20220212T163000
DTSTAMP:20260421T163241
CREATED:20220104T214616Z
LAST-MODIFIED:20220204T204019Z
UID:4809-1644584400-1644683400@www.mitmacher.net
SUMMARY:ABSI 2022: 29. Jahrestagung der Bayerischen Solar-Initiativen / 3. Rosenheimer Klimafrühling (online)
DESCRIPTION:Am 11. und 12. Februar 2022 findet die 29. Jahrestagung der Arbeitsgemeinschaft Bayerischer Solar-Initiativen (ABSI) in Verbindung mit dem 3. Rosenheimer Klimafrühling als kostenfreie Online-Veranstaltung statt. \nDiesmal vergrößert sich der Teilnehmer/innen- und Wirkungskreis der ABSI-Tagung noch einmal erheblich: Die Kooperation mit österreichischen Verbänden wurde erweitert und erstmals ist auch Baden-Württemberg dabei. \n  \nDer Titel „Ziel: Klimaneutralität – Wir haben‘s in der Hand“ zieht sich als Leitthema durch die Veranstaltung. Die zweitägige Konferenz ist gefüllt mit spannenden Vorträgen hochrangiger Referent/innen: \n\nTag 1 – Wissenschaft: Status Quo von Klimaveränderungen und Energiewende\n\nReferent/innen sind Prof. Helga Kromp-Kolb (Univ. für Bodenkultur Wien)\, Maike Schmidt (ZSW)\, Prof. Bruno Burger (Fraunhofer ISE)\, Prof. Volker Quaschning (HTW Berlin)\, Prof. Michael Sterner (OTH Regensburg). Abendvortrag mit Prof. Markus Rex (Alfred Wegener Institut\, Bremerhaven). \n  \n\nTag 2 – Praxisumsetzung: Themen sind die nachhaltige Energieerzeugung in Quartieren und Kommunen sowie Klimaneutralität in Kommune und Region. In vier Parallelsträngen werden Elemente zur Umsetzung der Energiewende und für mehr Klimaschutz vorgestellt.\n\nReferenten sind u. a. Hans-Josef Fell (Energy Watch Group) und Prof. Jürgen Karl (FAU Erlangen-Nürnberg). \n  \nDownload Programm ABSI2022 (Stand: 03.02.2022) \n  \nDie Veranstaltungsplattform umfasst auch eine digitale Ausstellung.\nInformationen und Angebote zur Beteiligung an der Ausstellung entnehmen Sie bitte dem SponsorenflyerABSI2022 (Stand: 24.01.2022). \n  \nDie Teilnahme ist kostenfrei\, eine Anmeldung erforderlich. \nAnmeldung:\nhttps://hopin.com/events/29-jahrestagung-der-arbeitsgemeinschaft-bayerischer-solar-initiativen-absi/registration \n 
URL:https://www.mitmacher.net/event/absi-2022-29-jahrestagung-der-bayerischen-solar-initiativen-3-rosenheimer-klimafruehling-online/
LOCATION:Online
END:VEVENT
BEGIN:VEVENT
DTSTART;TZID=Europe/Berlin:20220214T180000
DTEND;TZID=Europe/Berlin:20220214T193000
DTSTAMP:20260421T163241
CREATED:20211117T212856Z
LAST-MODIFIED:20211117T212856Z
UID:4735-1644861600-1644867000@www.mitmacher.net
SUMMARY:Aus Alt mach Neu: Wie richtig sanieren? (Online-Vortrag)
DESCRIPTION:Es gibt viele Möglichkeiten\, ein Haus energieeffizienter zu machen. Eine Komplettsanierung kann den Energiebedarf halbieren. Das steigert den Wohnkomfort sowie den Wert der Immobilie. Indem Sie Energie einsparen\, senken Sie auch Ihren Kohlendioxid-Ausstoß – und schonen so Umwelt und Klima. \nIn diesem Vortrag zeigen wir folgende Aspekte\, wie man eine Sanierung angeht: \n\nGrundätzliches Vorgehen bei einer geplanten Sanierung\nDämmung von Fassade\, Dach und Keller des Hauses\nFenster- und/oder Türentausch\nOptimierung der Heizung und Warmwasserbereitung\nEinsatz von Erneuerbaren Energien\nFördermittel für Sanierungen\n\nZielgruppe: Der Vortrag richtet sich vor allem an Ein- und Zweifamilienhausbesitzer/innen. Vorkenntnisse sind nicht nötig. \nDie Teilnahme an dem Webinar ist kostenlos. Hier geht es zur Anmeldung. \nReferent/innen: Matthias Rösch\, Energieberater für die Verbraucherzentrale Bayern e.V. und Sigrid Goldbrunner\, Regionalmanagerin\, Verbraucherzentrale Bayern e.V. \nVeranstalterin: Verbraucherzentrale Bayern e.V. \nKontakt: energie@vzbayern.de
URL:https://www.mitmacher.net/event/aus-alt-mach-neu-wie-richtig-sanieren-online-vortrag/
LOCATION:Online
ORGANIZER;CN="Verbraucherzentrale Bayern e.V.":MAILTO:energie@vzbayern.de
END:VEVENT
END:VCALENDAR