BEGIN:VCALENDAR
VERSION:2.0
PRODID:-//mitmacher.net - ECPv6.15.20//NONSGML v1.0//EN
CALSCALE:GREGORIAN
METHOD:PUBLISH
X-WR-CALNAME:mitmacher.net
X-ORIGINAL-URL:https://www.mitmacher.net
X-WR-CALDESC:Veranstaltungen für mitmacher.net
REFRESH-INTERVAL;VALUE=DURATION:PT1H
X-Robots-Tag:noindex
X-PUBLISHED-TTL:PT1H
BEGIN:VTIMEZONE
TZID:Europe/Berlin
BEGIN:DAYLIGHT
TZOFFSETFROM:+0100
TZOFFSETTO:+0200
TZNAME:CEST
DTSTART:20200329T010000
END:DAYLIGHT
BEGIN:STANDARD
TZOFFSETFROM:+0200
TZOFFSETTO:+0100
TZNAME:CET
DTSTART:20201025T010000
END:STANDARD
BEGIN:DAYLIGHT
TZOFFSETFROM:+0100
TZOFFSETTO:+0200
TZNAME:CEST
DTSTART:20210328T010000
END:DAYLIGHT
BEGIN:STANDARD
TZOFFSETFROM:+0200
TZOFFSETTO:+0100
TZNAME:CET
DTSTART:20211031T010000
END:STANDARD
BEGIN:DAYLIGHT
TZOFFSETFROM:+0100
TZOFFSETTO:+0200
TZNAME:CEST
DTSTART:20220327T010000
END:DAYLIGHT
BEGIN:STANDARD
TZOFFSETFROM:+0200
TZOFFSETTO:+0100
TZNAME:CET
DTSTART:20221030T010000
END:STANDARD
END:VTIMEZONE
BEGIN:VEVENT
DTSTART;TZID=Europe/Berlin:20211115T180000
DTEND;TZID=Europe/Berlin:20211115T190000
DTSTAMP:20260423T180657
CREATED:20211028T201107Z
LAST-MODIFIED:20211028T201353Z
UID:4692-1636999200-1637002800@www.mitmacher.net
SUMMARY:Aus Alt mach Neu: Wie richtig sanieren? (Online-Vortrag)
DESCRIPTION:Ihr Haus ist etwas in die Jahre gekommen? Durch die Fenster zieht es\, das Dach ist undicht und auch die Heizung geht nicht mehr richtig. Es gibt viele Möglichkeiten\, ein Haus energieeffizienter zu machen. Eine Komplettsanierung kann den Energiebedarf halbieren. Das steigert den Wohnkomfort sowie den Wert der Immobilie. Indem Sie Energie einsparen\, senken Sie auch Ihren Kohlendioxid-Ausstoß – und schonen so Umwelt und Klima. \nFolgende Themen werden behandelt: \n\nGrundsätzliches Vorgehen bei einer geplanten Sanierung\nDämmung von Fassade\, Dach und Keller des Hauses\nFenster- und/oder Türentausch\nOptimierung der Heizung und Warmwasserbereitung\nEinsatz von Erneuerbaren Energien\nFördermittel für Sanierungen\n\nDie Teilnahme am Web-Seminar ist kostenlos\, die Teilnehmer*innen-Zahl begrenzt.\nHier geht es zur Anmeldung. \nReferent: Andreas Köhler\, Energieberater \nVeranstalterin: Verbraucherzentrale Baden-Württemberg e.V.
URL:https://www.mitmacher.net/event/aus-alt-mach-neu-wie-richtig-sanieren-2/
LOCATION:Online
ORGANIZER;CN="Verbraucherzentrale Baden-W%C3%BCrttemberg e.V.":MAILTO:info@vz-bw.de
END:VEVENT
BEGIN:VEVENT
DTSTART;TZID=Europe/Berlin:20211115T180000
DTEND;TZID=Europe/Berlin:20211115T193000
DTSTAMP:20260423T180657
CREATED:20211028T194452Z
LAST-MODIFIED:20211028T194452Z
UID:4683-1636999200-1637004600@www.mitmacher.net
SUMMARY:Heizungserneuerung: Wie packt man’s richtig an? (Online-Vortrag)
DESCRIPTION:Vor dem Heizungstausch stellen sich viele Fragen: \n\nWelche Heiztechniken kommen für mein Gebäude in Frage?\nWelche Alternativen zur Ölheizung gibt es und wieviel Energie lässt sich sparen?\nFür was bekomme ich Fördermittel und wie beantrage ich diese?\n\nBei der Suche nach der passenden Heiztechnik für Ihr Haus bieten sich vielfältige Lösungen an\, immer mehr auch in Kombination mit Solarenergie. Auch andere innovative Lösungen sind inzwischen ausgereift und erfreuen sich zudem hoher Zuschüsse durch Förderprogramme des Bundes. An diesem Abend bekommen Sie eine echte Entscheidungshilfe und objektive Beratung. \nZielgruppe: Der Vortrag richtet sich vor allem an Hauseigentümer*innen. Vorkenntnisse sind nicht nötig. \nDie Teilnahme am Web-Seminar ist kostenlos\, die Teilnehmer*innen-Zahl begrenzt.\nDie Verbraucherzentrale Bayern empfiehlt daher\, sich frühzeitig für den Online-Vortrag anzumelden. Hier geht es zur Anmeldung. \nInformationen zum Thema sind hier zu finden. \nReferentinnen: Gisela Kienzle\, Dipl.-Ing.(FH) Architektin\, Energieberaterin für die Verbraucherzentrale Bayern e.V. und Sigrid Goldbrunner\, Regionalmanagerin\, Verbraucherzentrale Bayern e.V. \nVeranstalterin: Verbraucherzentrale Bayern e.V. \nKontakt: energie@vzbayern.de
URL:https://www.mitmacher.net/event/heizungserneuerung-wie-packt-mans-richtig-an-online-vortrag/
LOCATION:Online
ORGANIZER;CN="Verbraucherzentrale Bayern e.V.":MAILTO:energie@vzbayern.de
END:VEVENT
BEGIN:VEVENT
DTSTART;TZID=Europe/Berlin:20211118T170000
DTEND;TZID=Europe/Berlin:20211118T190000
DTSTAMP:20260423T180657
CREATED:20211102T210522Z
LAST-MODIFIED:20211102T211841Z
UID:4705-1637254800-1637262000@www.mitmacher.net
SUMMARY:Pelletheizung\, Wärmepumpe - Welche Heizung passt zu mir? (Online-Vortrag)
DESCRIPTION:In diesem Online-Vortrag informieren Dipl. Ing. Jens Büsing\, Energieberater der Verbraucherzentrale Bremen und die VHS OST gemeinsam\, welche Heizung zu Ihnen passt. \nDer Markt an Heizungssystemen wird größer und die richtige Auswahl fürs eigene Haus ist nicht ganz einfach. \nWelches Heizsystem ist mein Haus geeignet und welche Voraussetzungen müssen erfüllt sein? \nGibt es auch Fördergelder und was muss ich dabei beachten? \nFür Rückfragen: energieberatung@vz-hb.de oder telefonisch unter 0421-160777 \nHier geht es zur Anmeldung.
URL:https://www.mitmacher.net/event/pelletheizung-waermepumpe-welche-heizung-passt-zu-mir-online-vortrag/
LOCATION:Online
ORGANIZER;CN="Verbraucherzentrale Bremen":MAILTO:info@verbraucherzentrale-bremen.de
END:VEVENT
BEGIN:VEVENT
DTSTART;TZID=Europe/Berlin:20211122T173000
DTEND;TZID=Europe/Berlin:20211122T190000
DTSTAMP:20260423T180657
CREATED:20211102T211437Z
LAST-MODIFIED:20211102T211445Z
UID:4709-1637602200-1637607600@www.mitmacher.net
SUMMARY:Fördermittel für's Haus (Online-Vortrag)
DESCRIPTION:Die alte Ölheizung soll weg\, der Strom vom eigenen Dach kommen und die Wände komplett oder nur zum Teil eingepackt werden? Nie waren die finanziellen Hilfen\, mit denen der Staat dabei unter die Arme greift\, so umfangreich wie in diesem Jahr. Der Vortrag beleuchtet die wichtigsten Förderprogramme des Bundes\, die zur Verringerung des Energiebedarfs für Brauchwasser und Heizwärme genutzt werden können\, und zeigt auf\, wie man die öffentlichen Gelder für sein Vorhaben nutzen kann. \nDer Schwerpunkt liegt hierbei auf den bundesweit gültigen Förderprogrammen: \n\nzur Förderung einer neuen Heizungsanlage und\nzur energetischen Sanierung der Gebäudehülle wie Dach\, Außenwand\, oberste Geschossdecke\, Bodenplatte bzw. Kellerdecke und Fenster.\n\nDer Vortrag ist für eine Stunde geplant. Im Anschluss haben Sie noch für ca. 15 – 30 Minuten die Möglichkeit\, per Chat Ihre Fragen zu stellen. \nZielgruppe: \nDer Online-Vortrag richtet sich vor allem an private Haus- und Wohnungseigentümer\, Vermieter und Kaufinteressenten. \n  \nDie Teilnahme an dem Web-Seminar ist kostenlos. Hier geht es zur Anmeldung. \nDie Teilnehmer*innen-Zahl ist begrenzt. Die Verbraucherzentrale empfiehlt\, sich frühzeitig für den Online-Vortrag anzumelden.
URL:https://www.mitmacher.net/event/foerdermittel-fuers-haus-online-vortrag/
LOCATION:Online
ORGANIZER;CN="Verbraucherzentrale Bundesverband e.V.%2C Team Energieberatung":MAILTO:eteam@vzbv.de
END:VEVENT
BEGIN:VEVENT
DTSTART;TZID=Europe/Berlin:20211129T180000
DTEND;TZID=Europe/Berlin:20211129T193000
DTSTAMP:20260423T180657
CREATED:20211116T060006Z
LAST-MODIFIED:20211116T060006Z
UID:4722-1638208800-1638214200@www.mitmacher.net
SUMMARY:Ran an die Fördertöpfe! (Online-Vortrag)
DESCRIPTION:Die alte Ölheizung soll weg\, der Strom vom eigenen Dach kommen und die Wände komplett oder nur zum Teil eingepackt werden? Nie waren die finanziellen Hilfen\, mit denen der Staat dabei unter die Arme greift\, so umfangreich. \nDieser Vortrag beleuchtet die wichtigsten Förderprogramme des Bundes\, die zur Verringerung des Energiebedarfs für Brauchwasser und Heizwärme genutzt werden können\, und zeigt auf\, wie man die öffentlichen Gelder für sein Vorhaben nutzen kann. \nSchwerpunkt liegt hierbei auf den bundesweit gültigen Förderprogrammen: \n\nzur Förderung einer neuen Heizungsanlage und\nzur energetischen Sanierung der Gebäudehülle wie Dach\, Außenwand\, oberste Geschossdecke\, Bodenplatte bzw. Kellerdecke und Fenster.\n\nDie Teilnahme ist kostenlos. Hier geht’s zur Anmeldung.
URL:https://www.mitmacher.net/event/ran-an-die-foerdertoepfe-online-vortrag/
LOCATION:Online
ORGANIZER;CN="Verbraucherzentrale Baden-W%C3%BCrttemberg e.V.":MAILTO:info@vz-bw.de
END:VEVENT
END:VCALENDAR