BEGIN:VCALENDAR
VERSION:2.0
PRODID:-//mitmacher.net - ECPv6.15.20//NONSGML v1.0//EN
CALSCALE:GREGORIAN
METHOD:PUBLISH
X-ORIGINAL-URL:https://www.mitmacher.net
X-WR-CALDESC:Veranstaltungen für mitmacher.net
REFRESH-INTERVAL;VALUE=DURATION:PT1H
X-Robots-Tag:noindex
X-PUBLISHED-TTL:PT1H
BEGIN:VTIMEZONE
TZID:Europe/Berlin
BEGIN:DAYLIGHT
TZOFFSETFROM:+0100
TZOFFSETTO:+0200
TZNAME:CEST
DTSTART:20250330T010000
END:DAYLIGHT
BEGIN:STANDARD
TZOFFSETFROM:+0200
TZOFFSETTO:+0100
TZNAME:CET
DTSTART:20251026T010000
END:STANDARD
BEGIN:DAYLIGHT
TZOFFSETFROM:+0100
TZOFFSETTO:+0200
TZNAME:CEST
DTSTART:20260329T010000
END:DAYLIGHT
BEGIN:STANDARD
TZOFFSETFROM:+0200
TZOFFSETTO:+0100
TZNAME:CET
DTSTART:20261025T010000
END:STANDARD
BEGIN:DAYLIGHT
TZOFFSETFROM:+0100
TZOFFSETTO:+0200
TZNAME:CEST
DTSTART:20270328T010000
END:DAYLIGHT
BEGIN:STANDARD
TZOFFSETFROM:+0200
TZOFFSETTO:+0100
TZNAME:CET
DTSTART:20271031T010000
END:STANDARD
END:VTIMEZONE
BEGIN:VEVENT
DTSTART;TZID=Europe/Berlin:20260424T180000
DTEND;TZID=Europe/Berlin:20260424T190000
DTSTAMP:20260423T125647
CREATED:20260413T094816Z
LAST-MODIFIED:20260413T094816Z
UID:6515-1777053600-1777057200@www.mitmacher.net
SUMMARY:CriticalMass am 24.4.26 um 18 Uhr
DESCRIPTION:Wir radeln wieder für Mehr Platz fürs Rad
URL:https://www.mitmacher.net/event/criticalmass-am-24-4-26-um-18-uhr/
CATEGORIES:ADFC,CriticalMass,Naturfreunde Rosenheim,Radentscheid,VCD
END:VEVENT
BEGIN:VEVENT
DTSTART;TZID=Europe/Berlin:20260501T093000
DTEND;TZID=Europe/Berlin:20260501T170000
DTSTAMP:20260423T125647
CREATED:20260413T084034Z
LAST-MODIFIED:20260413T084034Z
UID:6510-1777627800-1777654800@www.mitmacher.net
SUMMARY:1. Mai Demo in Rosenheim
DESCRIPTION:Der 1. Mai ist ein Tag des Zusammenhalts\, der Solidarität\, des Widerstands und des Einsatzes für den Frieden. Wir stehen gemeinsam für unsere Rechte\, für unsere Würde und für eine gerechte Gesellschaft. Lasst uns laut sein gegen Angriffe auf Arbeitnehmerrechte\, gegen Sozialabbau und gegen eine Politik\, die die Interessen der Beschäftigten hintenanstellt. \nGehen wir gemeinsam auf die Straße – für sichere Arbeitsplätze\, gute Arbeitsbedingungen und eine starke Demokratie. \nIn Rosenheim um 09.30 Uhr Treffpunkt vor dem Gewerkschaftshaus Rosenheim.  \nDemozug um 10:00 Uhr durch Rosenheim. \n11.00 Uhr Hauptkundgebung vor dem Gewerkschaftshaus mit Christian Beck\, Bundesvorstand der IG BAU. \nFür das leibliche Wohl ist gesorgt. Musik\, Kinderbetreuung uvm.
URL:https://www.mitmacher.net/event/1-mai-demo-in-rosenheim/
LOCATION:DGB Haus Rosenheim\, Brixstr. 2\, Rosenheim\, 83022\, Germany
CATEGORIES:DGB,Naturfreunde Rosenheim
END:VEVENT
BEGIN:VEVENT
DTSTART;TZID=Europe/Berlin:20260501T140000
DTEND;TZID=Europe/Berlin:20260501T230000
DTSTAMP:20260423T125647
CREATED:20260413T084631Z
LAST-MODIFIED:20260413T084711Z
UID:6513-1777644000-1777676400@www.mitmacher.net
SUMMARY:Mai Fest in der Vetternwirtschaft
DESCRIPTION:… und wie jedes Jahr wieder \nMaifest in der Vettern ab 14 Uhr\nVettern Maifest
URL:https://www.mitmacher.net/event/mai-fest-in-der-vetternwirtschaft/
LOCATION:Vetternwirtschaft\, Oberaustr 2\, Rosenheim\, 83026\, Germany
END:VEVENT
BEGIN:VEVENT
DTSTART;TZID=Europe/Berlin:20260509T100000
DTEND;TZID=Europe/Berlin:20260509T160000
DTSTAMP:20260423T125647
CREATED:20260105T103414Z
LAST-MODIFIED:20260407T153217Z
UID:6437-1778320800-1778342400@www.mitmacher.net
SUMMARY:Umwelttag in Rosenheim
DESCRIPTION:Wir wollen wieder mit vielen Initiativen und Firmen in Stadt und Landkreis Präsenz zeigen. \nWir suchen Mitmacher ! \nNäheres folgt hier oder unter \nBUND Rosenheim \nInitiert von BN und ROSOLAR. \n 
URL:https://www.mitmacher.net/event/umwelttag-in-rosenheim/
CATEGORIES:ADFC,BN Rosenheim,CriticalMass,Radentscheid,Reden über Rosenheim,rosolar,VCD
END:VEVENT
BEGIN:VEVENT
DTSTART;TZID=Europe/Berlin:20260523T180000
DTEND;TZID=Europe/Berlin:20260523T190000
DTSTAMP:20260423T125647
CREATED:20260413T095056Z
LAST-MODIFIED:20260413T095524Z
UID:6517-1779559200-1779562800@www.mitmacher.net
SUMMARY:Critical Mass im Mai
DESCRIPTION:Wir radeln wieder für mehr Platz für Radfahrer und Fußgänger. \nCriticalMass
URL:https://www.mitmacher.net/event/critical-mass-im-mai/
LOCATION:Ludwigsplatz Rosenheim\, Ludwigsplatz\, Rosenheim\, 83022\, Deutschland
CATEGORIES:ADFC,BN Rosenheim,CriticalMass,Radentscheid,VCD
ORGANIZER;CN="CritcalMass Rosenheim":MAILTO:politik@schnitker.it
END:VEVENT
END:VCALENDAR